BEGIN:VCALENDAR
VERSION:2.0
PRODID:-//Dobříšské listy Online - ECPv6.15.18//NONSGML v1.0//EN
CALSCALE:GREGORIAN
METHOD:PUBLISH
X-WR-CALNAME:Dobříšské listy Online
X-ORIGINAL-URL:https://dlonline.cz
X-WR-CALDESC:Akce na Dobříšské listy Online
REFRESH-INTERVAL;VALUE=DURATION:PT1H
X-Robots-Tag:noindex
X-PUBLISHED-TTL:PT1H
BEGIN:VTIMEZONE
TZID:Europe/Prague
BEGIN:DAYLIGHT
TZOFFSETFROM:+0100
TZOFFSETTO:+0200
TZNAME:CEST
DTSTART:20180325T010000
END:DAYLIGHT
BEGIN:STANDARD
TZOFFSETFROM:+0200
TZOFFSETTO:+0100
TZNAME:CET
DTSTART:20181028T010000
END:STANDARD
BEGIN:DAYLIGHT
TZOFFSETFROM:+0100
TZOFFSETTO:+0200
TZNAME:CEST
DTSTART:20190331T010000
END:DAYLIGHT
BEGIN:STANDARD
TZOFFSETFROM:+0200
TZOFFSETTO:+0100
TZNAME:CET
DTSTART:20191027T010000
END:STANDARD
BEGIN:DAYLIGHT
TZOFFSETFROM:+0100
TZOFFSETTO:+0200
TZNAME:CEST
DTSTART:20200329T010000
END:DAYLIGHT
BEGIN:STANDARD
TZOFFSETFROM:+0200
TZOFFSETTO:+0100
TZNAME:CET
DTSTART:20201025T010000
END:STANDARD
END:VTIMEZONE
BEGIN:VEVENT
DTSTART;VALUE=DATE:20190101
DTEND;VALUE=DATE:20190201
DTSTAMP:20260419T191634
CREATED:20190110T123025Z
LAST-MODIFIED:20190110T123025Z
UID:8922-1546300800-1548979199@dlonline.cz
SUMMARY:EMMINY DENÍKY Z CEST
DESCRIPTION:Jak se cestuje s batoletem? Světlana a Vladimír putovali s dvouletou Emmou měsíc a půl po Balkáně a krásné fotografie a kresby z této cesty vám rozhodně doporučujeme zhlédnout.
URL:https://dlonline.cz/akce/emminy-deniky-z-cest/
LOCATION:Městská knihovna Dobříš
END:VEVENT
BEGIN:VEVENT
DTSTART;VALUE=DATE:20190101
DTEND;VALUE=DATE:20190201
DTSTAMP:20260419T191634
CREATED:20190110T124216Z
LAST-MODIFIED:20190110T124216Z
UID:8930-1546300800-1548979199@dlonline.cz
SUMMARY:Výstava jesliček Příbramských betlémářů
DESCRIPTION:Vánoce jsou již nenávratně pryč\, ale kdo nestihl navštívit v předvánočním shonu výstavu jesliček spolku Příbramských betlémářů\, určitě může přijít ještě během měsíce ledna. K vidění jsou překrásné ručně vyřezávané\, keramické či napodobeniny chlebových betlémů.\nNovinkou je letos skleněný betlém ze železnobrodského skla nebo krajkový betlém. A děti potěší opět oblíbený dětský betlém s postavičkami z večerníčků. Výstava jesliček je ke zhlédnutí v rámci prohlídky I. okruhu zámecké expozice (vstupné zůstává stejné). Časy prohlídek naleznete na webových stránkách v sekci otevírací doba.
URL:https://dlonline.cz/akce/vystava-jeslicek-pribramskych-betlemaru-2/
LOCATION:Zámek Dobříš\, nám. Svobody 1\, Dobříš\, 26301
ATTACH;FMTTYPE=image/jpeg:https://dlonline.cz/wp-content/uploads/2019/01/DL-01-2019-035.jpg
END:VEVENT
BEGIN:VEVENT
DTSTART;VALUE=DATE:20190110
DTEND;VALUE=DATE:20190211
DTSTAMP:20260419T191634
CREATED:20190110T121816Z
LAST-MODIFIED:20190110T121816Z
UID:8914-1547078400-1549843199@dlonline.cz
SUMMARY:Výstava obrazů „Pozornost pro tmu“
DESCRIPTION:Vystavují tři malířky: Barbora Bieylonovičová\, Veronika Rejfířová a Petra Tůmová\nZveme vás na vernisáž výstavy obrazů a grafik\, reprezentující trojici žen\, zaměřujících se na moment mizejícího světla a přicházející tmy. Není to poprvé\, co se tyto tři malířky setkávají na společné výstavě. Nyní se zaměřily na téma tmy\, každá svým osobitým stylem\, vnímáním\, a to jak v krajině\, myšlenkách nebo v představách. \nVýstavní sál KD Dobříš. Vernisáž se uskuteční ve čtvrtek 10. ledna 2019 od 18.00 hod. Výstava potrvá do 10. 2. 2019. Otevřeno po–čt 8.30–16 hod.\, pátek a sobota zavřeno\, ne 14–16 hod. Vstup zdarma!
URL:https://dlonline.cz/akce/vystava-obrazu-pozornost-pro-tmu/
LOCATION:Kulturní dům Dobříš
ATTACH;FMTTYPE=image/jpeg:https://dlonline.cz/wp-content/uploads/2019/01/DL-01-2019-006.jpg
END:VEVENT
BEGIN:VEVENT
DTSTART;VALUE=DATE:20190115
DTEND;VALUE=DATE:20190216
DTSTAMP:20260419T191634
CREATED:20190110T124358Z
LAST-MODIFIED:20190110T124358Z
UID:8932-1547510400-1550275199@dlonline.cz
SUMMARY:Výstava prací žáků Waldorfské školy Příbram
DESCRIPTION:Waldorfská škola Příbram chystá v zámecké Galerii JCM od poloviny ledna výstavu prací svých žáků – řezbářů a kovářů.
URL:https://dlonline.cz/akce/vystava-praci-zaku-waldorfske-skoly-pribram/
LOCATION:Zámek Dobříš\, nám. Svobody 1\, Dobříš\, 26301
END:VEVENT
BEGIN:VEVENT
DTSTART;VALUE=DATE:20190121
DTEND;VALUE=DATE:20190128
DTSTAMP:20260419T191634
CREATED:20190110T122335Z
LAST-MODIFIED:20190110T122335Z
UID:8916-1548028800-1548633599@dlonline.cz
SUMMARY:Týden památky obětí holocaustu
DESCRIPTION:Knižní výstava k Mezinárodnímu dni památky obětí holocaustu na výpůjčním pultě\, a nádavkem malý kvíz o ceny. Pořádá Městská knihovna Dobříš.
URL:https://dlonline.cz/akce/tyden-pamatky-obeti-holocaustu-2/
LOCATION:Městská knihovna Dobříš
END:VEVENT
BEGIN:VEVENT
DTSTART;VALUE=DATE:20190121
DTEND;VALUE=DATE:20190211
DTSTAMP:20260419T191634
CREATED:20190201T105854Z
LAST-MODIFIED:20190201T105854Z
UID:9153-1548028800-1549843199@dlonline.cz
SUMMARY:Bůh miluje cizince – putovní výstava
DESCRIPTION:Farní sbor Českobratrské církve evangelické v Dobříši vás srdečně zve na výstavu:\nBiblické výzvy pro vztah s cizinci; osudy „prominentních“ cizinců od Abrahama až po Ježíše a první křesťany; biblické příkazy k ochraně cizinců a pojetí pohostinnosti.\nVýstava je dvojjazyčná – česko-německá. \nVe dnech od 21. ledna do 10. února 2019 v evangelickém kostele na Dobříši\, otevřeno každou neděli od 12 do 15 hod.\nBěhem týdne bude zpřístupněna na požádání u kurátora výstavy Samuela Hejzlara\,\ntel.: 603 578 108. Samuel Hejzlar
URL:https://dlonline.cz/akce/buh-miluje-cizince-putovni-vystava/
END:VEVENT
BEGIN:VEVENT
DTSTART;TZID=Europe/Prague:20190126T090000
DTEND;TZID=Europe/Prague:20190127T160000
DTSTAMP:20260419T191634
CREATED:20190110T124530Z
LAST-MODIFIED:20190110T124530Z
UID:8934-1548493200-1548604800@dlonline.cz
SUMMARY:Tajemství pánevního dna I. a II.
DESCRIPTION:Pomocí celostní metody 3×3 se naučíme vnímat své pánevní dno na úrovni fyzické\, emoční a energetické. Svaly pánevního dna jsou významná část hlubokého stabilizačního systému našeho těla. Na kurzech Tajemství si ale ukážeme\, že jsou nejen zodpovědné za udržení moči a podílejí na správném postoji těla. Mají vliv na naše sebevědomí a radost ze života. www.seminareprozeny.cz \nČajovna Dobříš\, Příkrá 342\, kousek od Prokopovy zahrady. Otevírací doba: čtvrtek až neděle 17.00–21.00\, www.cajovnadobris.cz.
URL:https://dlonline.cz/akce/tajemstvi-panevniho-dna-i-a-ii/
END:VEVENT
BEGIN:VEVENT
DTSTART;TZID=Europe/Prague:20190126T200000
DTEND;TZID=Europe/Prague:20190126T200000
DTSTAMP:20260419T191634
CREATED:20190110T124907Z
LAST-MODIFIED:20190110T124907Z
UID:8940-1548532800-1548532800@dlonline.cz
SUMMARY:Sokolský ples
DESCRIPTION:TJ Sokol Dobříš vás srdečně zve na Sokolský ples\, který se koná 26. ledna 2019 od 20 hodin v sále dobříšské sokolovny. K poslechu i k tanci zahraje kapela Karla Čiháka – Dynamic.\nVstupné činí 150 Kč. Pro rezervaci stolů a vstupenek kontaktujte Lenku Kohoutovou: 774 210 868. Součástí plesu bude hra o ceny a vystoupení sokolských oddílů. \nZa TJ Sokol Dobříš Gita Otavová
URL:https://dlonline.cz/akce/sokolsky-ples/
ATTACH;FMTTYPE=image/jpeg:https://dlonline.cz/wp-content/uploads/2019/01/DL-01-2019-018.jpg
END:VEVENT
END:VCALENDAR