BEGIN:VCALENDAR
VERSION:2.0
PRODID:-//Dobříšské listy Online - ECPv6.15.18//NONSGML v1.0//EN
CALSCALE:GREGORIAN
METHOD:PUBLISH
X-ORIGINAL-URL:https://dlonline.cz
X-WR-CALDESC:Akce na Dobříšské listy Online
REFRESH-INTERVAL;VALUE=DURATION:PT1H
X-Robots-Tag:noindex
X-PUBLISHED-TTL:PT1H
BEGIN:VTIMEZONE
TZID:Europe/Prague
BEGIN:DAYLIGHT
TZOFFSETFROM:+0100
TZOFFSETTO:+0200
TZNAME:CEST
DTSTART:20170326T010000
END:DAYLIGHT
BEGIN:STANDARD
TZOFFSETFROM:+0200
TZOFFSETTO:+0100
TZNAME:CET
DTSTART:20171029T010000
END:STANDARD
BEGIN:DAYLIGHT
TZOFFSETFROM:+0100
TZOFFSETTO:+0200
TZNAME:CEST
DTSTART:20180325T010000
END:DAYLIGHT
BEGIN:STANDARD
TZOFFSETFROM:+0200
TZOFFSETTO:+0100
TZNAME:CET
DTSTART:20181028T010000
END:STANDARD
BEGIN:DAYLIGHT
TZOFFSETFROM:+0100
TZOFFSETTO:+0200
TZNAME:CEST
DTSTART:20190331T010000
END:DAYLIGHT
BEGIN:STANDARD
TZOFFSETFROM:+0200
TZOFFSETTO:+0100
TZNAME:CET
DTSTART:20191027T010000
END:STANDARD
END:VTIMEZONE
BEGIN:VEVENT
DTSTART;VALUE=DATE:20180903
DTEND;VALUE=DATE:20181201
DTSTAMP:20260419T144730
CREATED:20181015T091239Z
LAST-MODIFIED:20181015T091239Z
UID:8236-1535932800-1543622399@dlonline.cz
SUMMARY:Výstava Děvčata z pokoje 28
DESCRIPTION:Muzeum Dobříš přináší zajímavou výstavu zapůjčenou z Židovského muzea v Praze. Velice působivá výstava nese název „Děvčata z pokoje 28“. Na jednotlivých panelech vyobrazuje život několika mladých židovských děvčat\, vězněných v terezínském ghettu v jednom z pokojů\, tzv. heimů. Je zde přiblíženo nejen jejich každodenní strádání\, ale především malé radosti a silná přátelství\, která na tomto místě vznikala. \n 
URL:https://dlonline.cz/akce/vystava-devcata-z-pokoje-28/
END:VEVENT
BEGIN:VEVENT
DTSTART;VALUE=DATE:20180908
DTEND;VALUE=DATE:20180909
DTSTAMP:20260419T144730
CREATED:20180807T122812Z
LAST-MODIFIED:20180807T122812Z
UID:7569-1536364800-1536451199@dlonline.cz
SUMMARY:Dobří(š) v pohybu
DESCRIPTION:Sportovní akce pro děti a rodiče\, prezentace sportovních spolků s možností náboru dětí na začátku školního roku 2018/2019 – v rámci kampaně NSZM ČR „Dny zdraví“.
URL:https://dlonline.cz/akce/dobris-v-pohybu/
END:VEVENT
BEGIN:VEVENT
DTSTART;TZID=Europe/Prague:20180908T080000
DTEND;TZID=Europe/Prague:20180908T120000
DTSTAMP:20260419T144730
CREATED:20180807T122134Z
LAST-MODIFIED:20180810T132143Z
UID:7567-1536393600-1536408000@dlonline.cz
SUMMARY:Farmářské trhy
DESCRIPTION:Farmářské trhy se uskuteční v sobotu 8. září od 8 hodin na dobříšském tržišti v Kopáčkově dvoře.\nProdejci se mohou hlásit na e-mail: pavel.bodor@dokas.cz nebo na tel.: 731 266 464. Těšíme se na vás!
URL:https://dlonline.cz/akce/farmarske-trhy-2/
ATTACH;FMTTYPE=image/jpeg:https://dlonline.cz/wp-content/uploads/2017/05/DL-04-2017-11-e1504537434941.jpg
END:VEVENT
END:VCALENDAR